BEGIN:VCALENDAR
VERSION:2.0
PRODID:-//Sri Navathurgadevi Tempel e.V. - ECPv6.15.20//NONSGML v1.0//EN
CALSCALE:GREGORIAN
METHOD:PUBLISH
X-ORIGINAL-URL:https://hindutempel-wuppertal.de
X-WR-CALDESC:Veranstaltungen für Sri Navathurgadevi Tempel e.V.
REFRESH-INTERVAL;VALUE=DURATION:PT1H
X-Robots-Tag:noindex
X-PUBLISHED-TTL:PT1H
BEGIN:VTIMEZONE
TZID:UTC
BEGIN:STANDARD
TZOFFSETFROM:+0000
TZOFFSETTO:+0000
TZNAME:UTC
DTSTART:20230101T000000
END:STANDARD
END:VTIMEZONE
BEGIN:VEVENT
DTSTART;VALUE=DATE:20240527
DTEND;VALUE=DATE:20240528
DTSTAMP:20260422T102958
CREATED:20190305T123940Z
LAST-MODIFIED:20240526T201412Z
UID:523-1716768000-1716854399@hindutempel-wuppertal.de
SUMMARY:Sivalinga Poojai Katshi
DESCRIPTION:Der Sri Navathurgadevi Tempel steht allen offen\, unabhängig von Herkunft oder religiösem Hintergrund. Besucher sind herzlich eingeladen\, an den Zeremonien teilzunehmen\, die spirituelle Atmosphäre zu genießen und mehr über die reichen Traditionen und Bräuche des Hinduismus zu erfahren. Der Tempel dient als ein Ort des Friedens\, der Harmonie und des spirituellen Wachstums für alle.
URL:https://hindutempel-wuppertal.de/event/sivalinga-poojai-katshi/
LOCATION:Sri Navathurgadevi Tempel\, Hünefeldstraße 63B\, Wuppertal\, NRW\, 42285\, Deutschland
CATEGORIES:Sri Navathurgadevi Tempel
ATTACH;FMTTYPE=image/jpeg:https://hindutempel-wuppertal.de/wp-content/uploads/2019/03/Hindutempel-Wuppertal-1.jpg
END:VEVENT
BEGIN:VEVENT
DTSTART;VALUE=DATE:20240528
DTEND;VALUE=DATE:20240529
DTSTAMP:20260422T102958
CREATED:20240526T201549Z
LAST-MODIFIED:20240526T201919Z
UID:3303-1716854400-1716940799@hindutempel-wuppertal.de
SUMMARY:Zitronen Villaku Poojai
DESCRIPTION:Der Sri Navathurgadevi Tempel steht allen offen\, unabhängig von Herkunft oder religiösem Hintergrund. Besucher sind herzlich eingeladen\, an den Zeremonien teilzunehmen\, die spirituelle Atmosphäre zu genießen und mehr über die reichen Traditionen und Bräuche des Hinduismus zu erfahren. Der Tempel dient als ein Ort des Friedens\, der Harmonie und des spirituellen Wachstums für alle.
URL:https://hindutempel-wuppertal.de/event/zitronen-villaku-poojai/
LOCATION:Sri Navathurgadevi Tempel\, Hünefeldstraße 63B\, Wuppertal\, NRW\, 42285\, Deutschland
CATEGORIES:Sri Navathurgadevi Tempel
ATTACH;FMTTYPE=image/jpeg:https://hindutempel-wuppertal.de/wp-content/uploads/2024/05/Hindutempel_Wuppertal.jpg
END:VEVENT
BEGIN:VEVENT
DTSTART;VALUE=DATE:20240529
DTEND;VALUE=DATE:20240530
DTSTAMP:20260422T102958
CREATED:20240526T202037Z
LAST-MODIFIED:20240526T202037Z
UID:3309-1716940800-1717027199@hindutempel-wuppertal.de
SUMMARY:Kaalasavakana Katchi
DESCRIPTION:Der Sri Navathurgadevi Tempel steht allen offen\, unabhängig von Herkunft oder religiösem Hintergrund. Besucher sind herzlich eingeladen\, an den Zeremonien teilzunehmen\, die spirituelle Atmosphäre zu genießen und mehr über die reichen Traditionen und Bräuche des Hinduismus zu erfahren. Der Tempel dient als ein Ort des Friedens\, der Harmonie und des spirituellen Wachstums für alle.
URL:https://hindutempel-wuppertal.de/event/kaalasavakana-katchi/
LOCATION:Sri Navathurgadevi Tempel\, Hünefeldstraße 63B\, Wuppertal\, NRW\, 42285\, Deutschland
CATEGORIES:Sri Navathurgadevi Tempel
ATTACH;FMTTYPE=image/jpeg:https://hindutempel-wuppertal.de/wp-content/uploads/2019/03/Hindutempel-Wuppertal-1.jpg
END:VEVENT
BEGIN:VEVENT
DTSTART;VALUE=DATE:20240530
DTEND;VALUE=DATE:20240531
DTSTAMP:20260422T102958
CREATED:20240526T202136Z
LAST-MODIFIED:20240526T202136Z
UID:3311-1717027200-1717113599@hindutempel-wuppertal.de
SUMMARY:Mavillakku Pooja
DESCRIPTION:Der Sri Navathurgadevi Tempel steht allen offen\, unabhängig von Herkunft oder religiösem Hintergrund. Besucher sind herzlich eingeladen\, an den Zeremonien teilzunehmen\, die spirituelle Atmosphäre zu genießen und mehr über die reichen Traditionen und Bräuche des Hinduismus zu erfahren. Der Tempel dient als ein Ort des Friedens\, der Harmonie und des spirituellen Wachstums für alle.
URL:https://hindutempel-wuppertal.de/event/mavillakku-pooja/
LOCATION:Sri Navathurgadevi Tempel\, Hünefeldstraße 63B\, Wuppertal\, NRW\, 42285\, Deutschland
CATEGORIES:Sri Navathurgadevi Tempel
ATTACH;FMTTYPE=image/jpeg:https://hindutempel-wuppertal.de/wp-content/uploads/2024/05/Hindutempel_Wuppertal.jpg
END:VEVENT
BEGIN:VEVENT
DTSTART;VALUE=DATE:20240531
DTEND;VALUE=DATE:20240601
DTSTAMP:20260422T102958
CREATED:20240526T202303Z
LAST-MODIFIED:20240526T202303Z
UID:3313-1717113600-1717199999@hindutempel-wuppertal.de
SUMMARY:Vedaei Thiruvilla & Saparam
DESCRIPTION:Der Sri Navathurgadevi Tempel steht allen offen\, unabhängig von Herkunft oder religiösem Hintergrund. Besucher sind herzlich eingeladen\, an den Zeremonien teilzunehmen\, die spirituelle Atmosphäre zu genießen und mehr über die reichen Traditionen und Bräuche des Hinduismus zu erfahren. Der Tempel dient als ein Ort des Friedens\, der Harmonie und des spirituellen Wachstums für alle.
URL:https://hindutempel-wuppertal.de/event/vedaei-thiruvilla-saparam/
LOCATION:Sri Navathurgadevi Tempel\, Hünefeldstraße 63B\, Wuppertal\, NRW\, 42285\, Deutschland
CATEGORIES:Sri Navathurgadevi Tempel
ATTACH;FMTTYPE=image/jpeg:https://hindutempel-wuppertal.de/wp-content/uploads/2019/03/Hindutempel-Wuppertal-1.jpg
END:VEVENT
END:VCALENDAR